BEGIN:VCALENDAR
VERSION:2.0
PRODID:-//Hva Skjer i Asker//Activity 176368//NO
BEGIN:VEVENT
UID:43029bca-3249-4e18-966e-fb50f383b11f
DTSTAMP:20260423T104435Z
ORGANIZER:Asker kommune
LOCATION:Askerveien 47
DTSTART:20260423T090000Z
DTEND:20260423T120000Z
DESCRIPTION:Les mer om arrangementet:<br><br><a href="https://www.hvaskjeri
 asker.no/arrangorer/asker-frivilligsentral-hasselbakken/internasjonal-dame
 dag9/">Internasjonal Damedag</a>
X-ALT-DESC;FMTTYPE=text/html:Les mer om arrangementet:<br><br><a href="http
 s://www.hvaskjeriasker.no/arrangorer/asker-frivilligsentral-hasselbakken/i
 nternasjonal-damedag9/">Internasjonal Damedag</a>
SUMMARY:Internasjonal Damedag
RRULE:FREQ=WEEKLY;UNTIL=20260610T220000Z
END:VEVENT
END:VCALENDAR
