BEGIN:VCALENDAR
VERSION:2.0
PRODID:-//Hva Skjer i Asker//Activity 176009//NO
BEGIN:VEVENT
UID:729ce7b7-6467-483f-a02b-d7c62a3e6cc8
DTSTAMP:20260420T024428Z
ORGANIZER:Asker kommune
LOCATION:Skoledalen 3 3482 Tofte
DTSTART:20260420T120000Z
DTEND:20260420T170000Z
DESCRIPTION:Les mer om arrangementet:<br><br><a href="https://www.hvaskjeri
 asker.no/arrangorer/ungkultur-asker/tofte-ungdomsklubb5/">Tofte Ungdomsklu
 bb</a>
X-ALT-DESC;FMTTYPE=text/html:Les mer om arrangementet:<br><br><a href="http
 s://www.hvaskjeriasker.no/arrangorer/ungkultur-asker/tofte-ungdomsklubb5/"
 >Tofte Ungdomsklubb</a>
SUMMARY:Tofte Ungdomsklubb
RRULE:FREQ=WEEKLY;UNTIL=20260616T092411Z
END:VEVENT
END:VCALENDAR
