BEGIN:VCALENDAR
VERSION:2.0
PRODID:-//Hva Skjer i Asker//Activity 175379//NO
BEGIN:VEVENT
UID:0cad03ba-46bf-4e18-923d-7ccc280add5d
DTSTAMP:20260422T130217Z
ORGANIZER:Asker kommune
LOCATION:Stikkvannsveien 2, 3475 Sætre
DTSTART:20260422T080000Z
DTEND:20260422T090000Z
DESCRIPTION:Les mer om arrangementet:<br><br><a href="https://www.hvaskjeri
 asker.no/arrangorer/satre-if-graabein/basis-trening-for-godt-voksne--60-3/
 ">BASIS trening for godt voksne -60 +</a>
X-ALT-DESC;FMTTYPE=text/html:Les mer om arrangementet:<br><br><a href="http
 s://www.hvaskjeriasker.no/arrangorer/satre-if-graabein/basis-trening-for-g
 odt-voksne--60-3/">BASIS trening for godt voksne -60 +</a>
SUMMARY:BASIS trening for godt voksne -60 +
RRULE:FREQ=WEEKLY;UNTIL=20260624T072612Z
END:VEVENT
END:VCALENDAR
