BEGIN:VCALENDAR
VERSION:2.0
PRODID:-//Hva Skjer i Asker//Activity 164118//NO
BEGIN:VEVENT
UID:fef6da44-18b7-4dfc-8624-64d027c35516
DTSTAMP:20260424T024122Z
ORGANIZER:Asker kommune
LOCATION:Søndre Borgen 11, 1388 Asker
DTSTART:20260424T150000Z
DTEND:20260424T163000Z
DESCRIPTION:Les mer om arrangementet:<br><br><a href="https://www.hvaskjeri
 asker.no/arrangorer/borgen-karateklubb/karate-training2/">Karate Training<
 /a>
X-ALT-DESC;FMTTYPE=text/html:Les mer om arrangementet:<br><br><a href="http
 s://www.hvaskjeriasker.no/arrangorer/borgen-karateklubb/karate-training2/"
 >Karate Training</a>
SUMMARY:Karate Training
RRULE:FREQ=WEEKLY;UNTIL=20260722T095818Z
END:VEVENT
END:VCALENDAR
