BEGIN:VCALENDAR
VERSION:2.0
PRODID:-//Hva Skjer i Asker//Activity 162176//NO
BEGIN:VEVENT
UID:94978d8c-9aad-4ca6-8121-dc23ef4ebc08
DTSTAMP:20260423T104210Z
ORGANIZER:Asker kommune
LOCATION:Søndre Borgen 11, 1388 Borgen
DTSTART:20260423T090000Z
DTEND:20260423T110000Z
DESCRIPTION:Les mer om arrangementet:<br><br><a href="https://www.hvaskjeri
 asker.no/arrangorer/borgen-innbyggertorg/barseltorsdag8/">Barseltorsdag</a
 >
X-ALT-DESC;FMTTYPE=text/html:Les mer om arrangementet:<br><br><a href="http
 s://www.hvaskjeriasker.no/arrangorer/borgen-innbyggertorg/barseltorsdag8/"
 >Barseltorsdag</a>
SUMMARY:Barseltorsdag
RRULE:FREQ=WEEKLY;UNTIL=20260603T220000Z
END:VEVENT
END:VCALENDAR
