BEGIN:VCALENDAR
VERSION:2.0
PRODID:-//Hva Skjer i Asker//Activity 162173//NO
BEGIN:VEVENT
UID:3af358de-c9ce-43d9-99af-ddaa91ceda40
DTSTAMP:20260425T143827Z
ORGANIZER:Asker kommune
LOCATION:Søndre Borgen 11, 1388 Asker
DTSTART:20260429T090000Z
DTEND:20260429T110000Z
DESCRIPTION:Les mer om arrangementet:<br><br><a href="https://www.hvaskjeri
 asker.no/arrangorer/borgen-innbyggertorg/strikkefellesskap/">Strikkefelles
 skap</a>
X-ALT-DESC;FMTTYPE=text/html:Les mer om arrangementet:<br><br><a href="http
 s://www.hvaskjeriasker.no/arrangorer/borgen-innbyggertorg/strikkefellesska
 p/">Strikkefellesskap</a>
SUMMARY:Strikkefellesskap
RRULE:FREQ=WEEKLY;UNTIL=20260623T220000Z
END:VEVENT
END:VCALENDAR
